BEGIN:VCALENDAR
VERSION:2.0
PRODID:-//Culinarium Bavaricum//NONSGML kigkonsult.se iCalcreator 2.30.10//
CALSCALE:GREGORIAN
METHOD:PUBLISH
UID:0a3de9d9-f7cc-48b9-8734-4dc5c9409871
X-WR-CALNAME:iCagenda
X-WR-CALDESC:Event Management Extension for Joomla!
X-WR-RELCALID:3E26604A-50F4-4449-8B3E-E4F4932D05B5
X-WR-TIMEZONE:UTC
BEGIN:VTIMEZONE
TZID:UTC
END:VTIMEZONE
BEGIN:VEVENT
UID:0de5e6b4-ae5e-4827-8890-acc6938d1660
DTSTAMP:20260423T122904Z
CATEGORIES:Fachpublikum
CLASS:PUBLIC
DESCRIPTION;ALTREP="CID:<FFFF__=0ABBE548DFE235B58f9e8a93d@coffeebean.com>":
 \nRare &amp\; Fine Wines Tour Juni 2024\nDie heißesten Trends in der Weinw
 elt sind zurzeit ganz sicher Sekte. Großen Frankensekten widmen wir fast e
 inen ganzen Tag\, nicht zu kurz kommt auch das Thema Low Intervention\, We
 ine ohne Additive\, ohne Filtration und ohne Reinzuchthefe. Ein paar Fachv
 orträge zwischen den ausgedehnten Verkostungen und Winzerbesuchen bieten F
 utter für den Kopf und für die Seele dann fränkische Bratwürste\, die gibt
  es auch. Versprochen.\nDie Frankenwinzer laden exklusiv Sommelier(e)s und
  Blogger\, Influencer und Journalisten zur Juni Edition der Rare &amp\; Fi
 ne Wines Tour 2024 in die Weinberge am Main ein.Wir starten am Sonntag\, 2
 3. Juni gegen 12 Uhr am Aschaffenburger Hauptbahnhof\, übernachten im wund
 erschönen Volkach im Romantikhotel Zur Schwane und beenden die Rundreise a
 m Dienstag\, 25. Juni gegen 17 Uhr wieder am Würzburger Hauptbahnhof.\nJET
 ZT ANFRAGEN!\n&nbsp\;&nbsp\;\nEine Große Bitte!\nWir organisieren diese To
 ur gern für euch\, die Winzer übernehmen alle Kosten für die schönen Übern
 achtungen im Hotel Meinzinger\, für Frühstück über Lunch und Abendessen\, 
 sowie die Fahrt mit den Kleinbussen. Deshalb bitte KEINE NO SHOWS\, keine 
 kurzfristigen Absagen! Wir suchen absolut verbindliche Zusagen.\nDie Rechn
 ung zur Reisekostenbeteiligung von 120 Euro pro Person verschicken wir dir
 ekt nach der Zusage. Bitte pro Betrieb auch nur eine Person melden\, wenn 
 durch Krankheit oder andere Umstände eine Teilnahme nicht möglich ist\, ne
 nnt uns bitte eine Ersatzperson aus eurem Betrieb.\nJETZT ANFRAGEN!\n&nbsp
 \;\nDas (vorläufige) Programm\n{accordion title=' Sonntag\, 23. Juni 2024'
  scroll='top'}\nSonntag\, 23. Juni 2024\n\n\n\n\nbis 12:00&nbsp\;Uhr&nbsp\
 ; &nbsp\; &nbsp\;\n\n\nAnreise nach Aschaffenburg in Eigenregie\nTreffen u
 m 12:00 Uhr in der Haupthalle des Bahnhofs\n\n\n\n12:45 Uhr\n\nWeingut Bas
 tian Hamdorf\, KlingenbergKurzportrait Franken\, Silvaner Heimat&nbsp\; I&
 nbsp\; Imbiss\nAndreas GöpfertHaus des Frankenweins\, Würzburg\n\n\n\n13:3
 0 Uhr\n\nVerkostung\nWeingut Bastian Hamdorf\, Bürgstadt am Main bio-zerti
 fiziert&nbsp\; I&nbsp\; www.weingut-bastian-hamdorf.de&nbsp\;&nbsp\;  Gäst
 e: Weingut Giegerich\, Großwallstadt am Main bio-zertifiziert&nbsp\; I www
 .weingut-giegerich.de&nbsp\;  Weingut Stritzinger\, Klingenberg am Main bi
 o-zertifiziert&nbsp\; I www.weinbau-stritzinger.de&nbsp\;\n\n\n\n15:30 Uhr
 \n\nFränkischer Rotwein Wanderweg - von Klingenberg nach Erlenbach begleit
 et von den drei Weingütern\n\n\n\n17:30 Uhr\n\nAbfahrt nach Bürgstadt\n\n
 \n\n18:00 Uhr\n\nLandhotel Adler\, Bürgstadt am Mainwww.hotel-weinhaus-ste
 rn.de&nbsp\;\nZusammen mit:\nSekthaus Burkhardt Schür\, Bürgstadt am Main 
 www.burkhardtschuer.de&nbsp\;\nWeingut Hench\, Bürgstadt am Main bio-zerti
 fiziert&nbsp\; I&nbsp\; www.weingut-hench.de&nbsp\;\n\n\n\n20:30 Uhr\nFahr
 t zum Hotel\n\n\n22:00 Uhr\n\nWeingut &amp\; Hotel Zur Schwane\, Volkach a
 m Mainwww.schwane.de&nbsp\;\n\n\n\n\n{accordion title=' Montag\, 24. Juni 
 2024' scroll='top'}\nMontag\, 24. Juni 2024\n\n\n\n\n09:00&nbsp\;Uhr&nbsp\
 ; &nbsp\; &nbsp\;\n\n\nAbfahrt nach Iphofen\n\n\n\n10:00 Uhr\n\nWeingut An
 di Weigand\, Iphofen bio-zertifiziert&nbsp\; I&nbsp\; www.weingut-weigand.
 de&nbsp\;\nGäste:\nWein Goutte\, Hüttenheimbio-zertifiziert&nbsp\; I&nbsp\
 ; www.weingoutte.com&nbsp\;\nStefan Vetter\, Gambach bio-zertifiziert&nbsp
 \; I&nbsp\; www.vetter-wein.de&nbsp\;\n\n\n\n12:00 Uhr\nkurze Fahrt nach R
 ödelsee\n\n\n12:30 Uhr\n\nVesper am Terroir F\, Rödelsee\nGastgeber:\nWein
 gut 3Zeilen\, Rödelseebio-zertifiziert&nbsp\; I&nbsp\; www.3-zeilen.de&nbs
 p\;\nWeingut Hemberger\, Rödelsee bio-zertifiziert&nbsp\; I&nbsp\; www.wei
 ngut-hemberger.de&nbsp\;\nWeingut Deppisch\, Theilheimbio-zertifiziert | w
 ww.weingutdeppisch.de&nbsp\;\n\n\n\n14:30 Uhr\nAbfahrt nach Escherndorf\n
 \n\n15:30 Uhr\n\nWeingut Rainer Sauer\, Escherndorf am Main bio-zertifizie
 rt&nbsp\; I&nbsp\; www.weingut-rainer-sauer.de&nbsp\;\nGäste:\nWeingut Max
  Müller I\, Volkach am MainAktuell in Umstellung&nbsp\; I&nbsp\; www.max-m
 ueller.de&nbsp\;\nWeingut Zang\, Nordheim am Mainbio-zertifiziert&nbsp\; I
 &nbsp\; www.oekoweingut-zang.de\n\n\n\n18:00 Uhr\nMit den Winzern durch de
 n Escherndorfer Lump zur Vogelsburg\n\n\n19:00 Uhr\nkurze Fahrt zum Hotel
 \n\n\n20:00 Uhr\n\nAbendessen im Restaurant Zur Schwane\, Volkachwww.schwa
 ne.de&nbsp\;\nbegleitet mit Weinen des Hauseswww.schwane-weingut.de&nbsp\;
 \n\n\n\n\n\n{accordion title='&nbsp\;Dienstag\, 25. Juni 2024' scroll='top
 '}\nDienstag\, 25. Juni 2024\n\n\n\n\n09:00&nbsp\;Uhr&nbsp\; &nbsp\; &nbsp
 \;\n\n\n&nbsp\;Abfahrt nach Sommerhausen\n\n\n\n09:30 Uhr\nWein- &amp\; Se
 ktgut Schloss Sommerhausen bio-zertifiziert&nbsp\; I&nbsp\; www.sommerhaus
 en.com&nbsp\;\n\n\n11:00 Uhr\nFahrt nach Randersacker\n\n\n11:30 Uhr\n\nMi
 ttags-Vesper unter’m Nussbaum\nWeingut Schmachtenberger\, Randersacker am 
 Main bio-zertifiziert&nbsp\; I&nbsp\; www.weine-mit-charakter.de&nbsp\;  W
 eingut Schenk\, Randersacker am Mainbio-zertifiziert&nbsp\; I&nbsp\; www.w
 eingut-schenk.de&nbsp\;\n\n\n\n13:30 Uhr\nFahrt nach Würzburg\n\n\n14:30 U
 hr\n\nSektkellerei Höfer\, Würzburgwww.hoefersekt.de&nbsp\;\n\n\n\n16:00 U
 hr\nFahrt zum Hauptbahnhof\n\n\n16:30 Uhr\nWürzburg Hauptbahnhof\n\n\n\nAu
 f Wiedersehen in der Silvaner Heimat Franken!\n{/accordions}\n&nbsp\;\nJET
 ZT ANFRAGEN!\n&nbsp\;\nReisekostenbeteiligung:Fachpublikum: 120 EUR p.P.\n
 Wann?Datum:&nbsp\;23. – 25. Juni 2024Wir bitten um eure Teilnahmeanfrage b
 is 18. Mai 2024.\nWir freuen uns auf ein WiedersehenDas CB Team &amp\; Hau
 s des Frankenweins\nJETZT ANFRAGEN!\n&nbsp\;\n{accordion title='Teilnahmeb
 edingungen' scroll='top'}\n\nDie Verkostung richtet sich ausschließlich an
  JournalistInnen\, BloggerInnen &amp\; Sommelier(e)s\nDie Plätze sind auf 
 15 Personen limitiert.\nVerbindliche Teilnahmeanfrage bis 18. Mai 2024 erb
 eten.\nBitte pro Betrieb nur eine Person verbindlich anmelden.\nNoch ein w
 ichtiger Hinweis: die eingegangene Anfrage ist keine automatische Teilnahm
 ebestätigung. Die offizielle Platzzusage oder Absage erfolgt erst im Ansch
 luss.\nDie Anmeldung ist nach unserer Platzzusage und des Zahlungseingangs
 &nbsp\;verbindlich. \n\n{accordion title='Über die Weinregion' scroll='top
 '}\nDas ist Silvaner Heimat seit 1659\nDie Weingüter und Winzergenossensch
 aften aus Franken\, der bekanntesten bayerischen Weinregion\, präsentieren
  sich in der Alten Kongresshalle. Silvaner ist die Rebsorte\, die der Regi
 on ihre Identität gibt\, Franken ist Silvaner Heimat seit 1659. Und das sc
 hmeckt man. Wie in keiner anderen Weinregion der Welt erschaffen die fränk
 ischen Weinmacher Silvaner\, die international begehrt sind. Großartige So
 lokünstler\, aber auch kulinarische Teamplayer\, die jedes mit Liebe zuber
 eitete Essen elegant und zurückhaltend begleiten.\nMEHR ÜBER DIE WEINREGIO
 N FRANKEN…\n{/accordions}\n&nbsp\;\n\n\n&nbsp\;\n&nbsp\;\nAnfrage\n{pretix
 }18-weinreise-franken-rare-fine-wines-tour-jun-2024{/pretix}\n
DTSTART:20240623T120000Z
DTEND:20240625T180000Z
GEO:00;0
LOCATION:Franken
ORGANIZER:
SEQUENCE:1
SUMMARY:Weinreise - Franken - Rare & Fine Wines Tour
TRANSP:OPAQUE
URL:https://www.culinarium-bavaricum.de/wein-events/18-weinreise-franken-ra
 re-fine-wines-tour-jun-2024
END:VEVENT
END:VCALENDAR
