BEGIN:VCALENDAR
VERSION:2.0
PRODID:-//Culinarium Bavaricum//NONSGML kigkonsult.se iCalcreator 2.30.10//
CALSCALE:GREGORIAN
METHOD:PUBLISH
UID:1fe8c650-0d6a-4351-be83-d6b97a4535d0
X-WR-CALNAME:iCagenda
X-WR-CALDESC:Event Management Extension for Joomla!
X-WR-RELCALID:3E26604A-50F4-4449-8B3E-E4F4932D05B5
X-WR-TIMEZONE:UTC
BEGIN:VTIMEZONE
TZID:UTC
END:VTIMEZONE
BEGIN:VEVENT
UID:4111b0cc-ca49-47d7-aafd-ef5c937370d7
DTSTAMP:20260420T083132Z
CATEGORIES:Fachpublikum
CLASS:PUBLIC
DESCRIPTION;ALTREP="CID:<FFFF__=0ABBE548DFE235B58f9e8a93d@coffeebean.com>":
 \nZwei Tage\, zwei Masterclasses – die Vielfalt Frankens erleben!\nAm Sonn
 tag tauchen wir in den Wein Hype die ROSA Welle und Aromarebsorten ein: vo
 n trocken bis natural\, fruchtig oder puristisch – die fränkischen WinzerI
 nnen zeigen Rosés in Bestform. Und natürlich die tollen Nasenweine aus Sch
 eurebe oder Sauvignon Blanc\, Bacchus oder Riesling\, da wird die Lautstär
 ke im Glas hochgedreht! Am Montag geht es um „Groß Feiern mit Frankenwein“
 : besondere Weine für besondere Anlässe\, von leicht bis festlich.Mit den 
 WinzerInnen live aus Franken - Online moderiert - Live verkostet.Sei dabei
  und entdecke die fränkische Weinwelt!  Termine &amp\; Themen: Sonntag\, 1
 0. November – ab 14.00 Uhr&nbsp\; „Wein Hype: Die ROSA Welle oder Aromareb
 sorten?!“ 10 Winzer mit 18 Weinen\, abgefüllt in 0\,1L Fläschchen\nMontag\
 , 11. November &nbsp\;– ab 14.00 Uhr&nbsp\; „Groß Feiern mit Frankenwein“ 
 10 Winzer mit 20 Weinen\, abgefüllt in 0\,1L Fläschchen\nDie Fakten:\n\nOn
 line moderierte Verkostung exklusiv für das Fachpublikum\nDie Weine werden
  von Susanne Platzer\, WSET Dipl. Holder\, vorgestellt.\n\n&nbsp\;Bitte ge
 bt bei der Anfrage die passende Versandadresse an\, damit die Weine rechtz
 eitig zu euch kommen!\nJETZT ANFRAGEN!\n&nbsp\;\n&nbsp\;\nSonntag\, 10. No
 vember - 14 Uhr: Wein Hype: Die ROSA Welle oder Aromarebsorten?!\nWir habe
 n 10 Winzer mit 18 Weinen live aus dem Weinanbaugebiet Franken dabei. Onli
 ne moderiert. Live verkostet.Längst in der Mitte der Weinkenner angekommen
  – Rosés sind die ganz große Nummer beim Weinfarbenspiel. Strukturiert und
  puristisch für den Highend Trinker\, saftig\, weich &amp\; üppig für den 
 Beginner\, aber immer großes Kino für die Weinliebhaber. Und natürlich die
  tollen Nasenweine aus Scheurebe oder Sauvignon Blanc\, Bacchus oder Riesl
 ing\, da wird die Lautstärke im Glas hochgedreht!Die Frankenwinzer beherrs
 chen das zarte Farben- und Aromenspiel\, zu beweisen in dieser Masterclass
 .\nMit dabei sind:\n\nWinzerhof Krauß Abtswind\nBIO Weingut Daniel Then\nW
 eingut Hans Wirsching\nWeingut Glaser\nWeingut Baldauf\nWeingut Bunzelt\nW
 eingut Roth\nWeingut Fürst Löwenstein\nWeinbau und Brennerei Meyer\nVDP.We
 ingut zur Schwane\n\n&nbsp\;\nJETZT ANFRAGEN!\n&nbsp\;&nbsp\;\nMontag\, 11
 . November - 14 Uhr: Groß Feiern mit Frankenwein\nWir haben 10 Winzer mit 
 20 Weinen live aus dem Weinanbaugebiet Franken dabei. Online moderiert. Li
 ve verkostet.Besondere Weine für besondere Anlässe: Für Hochzeit\, Geburts
 tag &amp\; groß Feste zeigen die fränkischen Winzerinnen und Winzer handwe
 rklichen Weingenuss. Und ganz nah am neuesten Trend. Die Frankenwein-Szene
  liefert von leicht zugänglichen\, trinkigen Alltagsweinen\, bis hin zum g
 roßen Gewächs ganz viel Wein für jeden Anlass.Für die Höhepunkte des Leben
 s zeigen wir authentische &amp\; handgemachte Weine aus dem Weinanbaugebie
 t Franken.\nMit dabei sind:\n\nWeingut Höfling\nWeingut Meusert\nBIO Weing
 ut Daniel Then\nVDP.Weingut Schäffer\nWeingut Melber\nWeingut Uwe Geßner\n
 Weingut Hans Wirsching\nWeingut Baldauf\nWinzer.Sommerach\nDomäne Castell
 \n\n&nbsp\;\nJETZT ANFRAGEN!\n&nbsp\;\n\n&nbsp\;\nDie Fakten:\n\nOnline mo
 derierte Verkostung exklusiv für das Fachpublikum\nDie Weine werden von Su
 sanne Platzer\, WSET Dipl. Holder\, vorgestellt.\n\n&nbsp\;Bitte gebt bei 
 der Anfrage die passende Versandadresse an\, damit die Weine rechtzeitig z
 u euch kommen!\nWir freuen uns auf ein Wiedersehen!Das Team von Culinarium
  Bavaricum &amp\; Haus des Frankenweins\nJETZT ANFRAGEN!\n&nbsp\;\n&nbsp\;
 \n{accordion title='Teilnahmebedingungen' scroll='top'}\nTeilnahmebedingun
 gen\n\nDie Verkostung richtet sich ausschließlich an Fachpublikum.\nDie Pl
 ätze sind jeweils auf 40 Personen limitiert.\nAnmeldung bis 30. Oktober er
 beten\nNoch ein wichtiger Hinweis: die eingegangene Anfrage ist keine auto
 matische Teilnahmebestätigung. Die offizielle Platzzusage oder Absage erfo
 lgt erst im Anschluss.Die Anmeldung ist nach unserer Platzzusage und des Z
 ahlungseingangs verbindlich.\n\n&nbsp\;\n{accordion title='Über die Weinre
 gion' scroll='top'}\nDas ist Silvaner Heimat seit 1659\nDie Weingüter und 
 Winzergenossenschaften aus Franken\, der bekanntesten bayerischen Weinregi
 on\, präsentieren sich in der Alten Kongresshalle. Silvaner ist die Rebsor
 te\, die der Region ihre Identität gibt\, Franken ist Silvaner Heimat seit
  1659. Und das schmeckt man. Wie in keiner anderen Weinregion der Welt ers
 chaffen die fränkischen Weinmacher Silvaner\, die international begehrt si
 nd. Großartige Solokünstler\, aber auch kulinarische Teamplayer\, die jede
 s mit Liebe zubereitete Essen elegant und zurückhaltend begleiten.\nMEHR Ü
 BER DIE WEINREGION FRANKEN…\n{/accordions}\n\n\n&nbsp\;\n&nbsp\;\nAnfrage
 \n[Nur Einzelanmeldung]{pretix}23-online-franken-masterclass-nov-2024{/pre
 tix}\n
DTSTART:20241111T140000Z
DTEND:20241111T140000Z
GEO:00;0
LOCATION:Online (Zoom)
ORGANIZER:
SEQUENCE:1
SUMMARY:Online - Franken - Masterclasses - Zwei Tage - Zwei Themen
TRANSP:OPAQUE
URL:https://www.culinarium-bavaricum.de/wein-events/23-online-franken-maste
 rclass-nov-2024
END:VEVENT
END:VCALENDAR
